BEGIN:VCALENDAR
PRODID:-//Felinesoft Ltd//Events Framework//EN
VERSION:2.0
METHOD:PUBLISH
BEGIN:VEVENT
DTSTART:20261119T120000Z
DTEND:20261124T120000Z
DTSTAMP:20260419T110157Z
UID:7963ff98-94da-4a19-9673-5ebaa4509962
CREATED:20260419T110157Z
LAST-MODIFIED:20260419T110157Z
SEQUENCE:0
STATUS:CONFIRMED
SUMMARY:HQ - Module 1 Law Practice and Procedure of Construction Adjudication Assessment (Nov 2026)
TRANSP:OPAQUE
END:VEVENT
END:VCALENDAR
